BEGIN:VCALENDAR
VERSION:2.0
PRODID:-//hacksw/handcal//NONSGML v1.0//EN
CALSCALE:GREGORIAN
BEGIN:VEVENT
DTSTART:20130501T080000Z
DTEND:20130501T080000Z
UID:e13368
DTSTAMP:20260420T085603Z
LOCATION:Jacob Ziskind Building
DESCRIPTION:On Quasi-Frobenius biparabolic subalgebras 
SUMMARY:On Quasi-Frobenius biparabolic subalgebras 
END:VEVENT
END:VCALENDAR