BEGIN:VCALENDAR
VERSION:2.0
PRODID:-//hacksw/handcal//NONSGML v1.0//EN
CALSCALE:GREGORIAN
BEGIN:VEVENT
DTSTART:20130420T070000Z
DTEND:20130420T080000Z
UID:e13369
DTSTAMP:20260419T210953Z
LOCATION:Arthur and Rochelle Belfer Building for Biomedical Research
DESCRIPTION:Single cell tracing of hematopoiesis using cellular barcoding
SUMMARY:Single cell tracing of hematopoiesis using cellular barcoding
END:VEVENT
END:VCALENDAR