BEGIN:VCALENDAR
VERSION:2.0
PRODID:-//hacksw/handcal//NONSGML v1.0//EN
CALSCALE:GREGORIAN
BEGIN:VEVENT
DTSTART:20130428T100000Z
DTEND:20130428T100000Z
UID:e13382
DTSTAMP:20260420T085555Z
LOCATION:Wolfson Building for Biological Research
DESCRIPTION:Dissecting gene regulatory networks in virus-host interaction
SUMMARY:Dissecting gene regulatory networks in virus-host interaction
END:VEVENT
END:VCALENDAR