BEGIN:VCALENDAR
VERSION:2.0
PRODID:-//hacksw/handcal//NONSGML v1.0//EN
CALSCALE:GREGORIAN
BEGIN:VEVENT
DTSTART:20130501T121500Z
DTEND:20130501T121500Z
UID:e13385
DTSTAMP:20260420T194158Z
LOCATION:Weizmann House
DESCRIPTION:g-factor measurements on hydrogen-like ions as test of bound-state QED
SUMMARY:g-factor measurements on hydrogen-like ions as test of bound-state QED
END:VEVENT
END:VCALENDAR