BEGIN:VCALENDAR
VERSION:2.0
PRODID:-//hacksw/handcal//NONSGML v1.0//EN
CALSCALE:GREGORIAN
BEGIN:VEVENT
DTSTART:20130505T110000Z
DTEND:20130505T110000Z
UID:e13388
DTSTAMP:20260420T115047Z
LOCATION:
DESCRIPTION:Optical manipulation of charge dynamics in organic and hybrid electronic devices
SUMMARY:Optical manipulation of charge dynamics in organic and hybrid electronic devices
END:VEVENT
END:VCALENDAR