BEGIN:VCALENDAR
VERSION:2.0
PRODID:-//hacksw/handcal//NONSGML v1.0//EN
CALSCALE:GREGORIAN
BEGIN:VEVENT
DTSTART:20130507T070000Z
DTEND:20130507T083000Z
UID:e13389
DTSTAMP:20260420T085538Z
LOCATION:Herman Mayer Campus Guesthouse. Maison de France
DESCRIPTION:Are you conducting human genetic research or clinical diagnostic work? DNA & RNA from saliva
SUMMARY:Are you conducting human genetic research or clinical diagnostic work? DNA & RNA from saliva
END:VEVENT
END:VCALENDAR