BEGIN:VCALENDAR
VERSION:2.0
PRODID:-//hacksw/handcal//NONSGML v1.0//EN
CALSCALE:GREGORIAN
BEGIN:VEVENT
DTSTART:20130506T111500Z
DTEND:20130506T111500Z
UID:e13395
DTSTAMP:20260420T155027Z
LOCATION:Edna and K.B. Weissman Building of Physical Sciences
DESCRIPTION:Dense fluids of colloidal spheres form denser non-crystalline packings.
SUMMARY:Dense fluids of colloidal spheres form denser non-crystalline packings.
END:VEVENT
END:VCALENDAR