BEGIN:VCALENDAR
VERSION:2.0
PRODID:-//hacksw/handcal//NONSGML v1.0//EN
CALSCALE:GREGORIAN
BEGIN:VEVENT
DTSTART:20130506T070000Z
DTEND:20130506T080000Z
UID:e13399
DTSTAMP:20260420T194320Z
LOCATION:Arthur and Rochelle Belfer Building for Biomedical Research
DESCRIPTION:Genetic research using integrated fluidic circuits\, CNV gene chips and NGS
SUMMARY:Genetic research using integrated fluidic circuits\, CNV gene chips and NGS
END:VEVENT
END:VCALENDAR