BEGIN:VCALENDAR
VERSION:2.0
PRODID:-//hacksw/handcal//NONSGML v1.0//EN
CALSCALE:GREGORIAN
BEGIN:VEVENT
DTSTART:20130505T080000Z
DTEND:20130505T080000Z
UID:e13404
DTSTAMP:20260421T085106Z
LOCATION:Sussman Family Building for Environmental Sciences
DESCRIPTION:Ice Age Dynamics on Mars
SUMMARY:Ice Age Dynamics on Mars
END:VEVENT
END:VCALENDAR