BEGIN:VCALENDAR
VERSION:2.0
PRODID:-//hacksw/handcal//NONSGML v1.0//EN
CALSCALE:GREGORIAN
BEGIN:VEVENT
DTSTART:20130522T080000Z
DTEND:20130522T080000Z
UID:e13409
DTSTAMP:20260420T194141Z
LOCATION:Gerhard M.J. Schmidt Lecture Hall
DESCRIPTION:water forum lecture announcement
SUMMARY:water forum lecture announcement
END:VEVENT
END:VCALENDAR