BEGIN:VCALENDAR
VERSION:2.0
PRODID:-//hacksw/handcal//NONSGML v1.0//EN
CALSCALE:GREGORIAN
BEGIN:VEVENT
DTSTART:20130506T113000Z
DTEND:20130506T113000Z
UID:e13414
DTSTAMP:20260420T194148Z
LOCATION:Nella and Leon Benoziyo Building for Brain Research
DESCRIPTION:Movement vigor\, impulsivity\, and the cost of waiting in the human brain 
SUMMARY:Movement vigor\, impulsivity\, and the cost of waiting in the human brain 
END:VEVENT
END:VCALENDAR