BEGIN:VCALENDAR
VERSION:2.0
PRODID:-//hacksw/handcal//NONSGML v1.0//EN
CALSCALE:GREGORIAN
BEGIN:VEVENT
DTSTART:20130529T110000Z
DTEND:20130529T110000Z
UID:e13421
DTSTAMP:20260420T062957Z
LOCATION:Ullmann Building of Life Sciences
DESCRIPTION:Synthetic sensing and signaling transduction cascades based on artificial autoinhibited proteases"
SUMMARY:Synthetic sensing and signaling transduction cascades based on artificial autoinhibited proteases"
END:VEVENT
END:VCALENDAR