BEGIN:VCALENDAR
VERSION:2.0
PRODID:-//hacksw/handcal//NONSGML v1.0//EN
CALSCALE:GREGORIAN
BEGIN:VEVENT
DTSTART:20130530T100000Z
DTEND:20130530T110000Z
UID:e13422
DTSTAMP:20260420T085555Z
LOCATION:Arthur and Rochelle Belfer Building for Biomedical Research
DESCRIPTION:Dr. Barbara Pauly\, EMBO Reports
SUMMARY:Dr. Barbara Pauly\, EMBO Reports
END:VEVENT
END:VCALENDAR