BEGIN:VCALENDAR
VERSION:2.0
PRODID:-//hacksw/handcal//NONSGML v1.0//EN
CALSCALE:GREGORIAN
BEGIN:VEVENT
DTSTART:20130529T080000Z
DTEND:20130529T090000Z
UID:e13424
DTSTAMP:20260419T213210Z
LOCATION:Nella and Leon Benoziyo Physics Building
DESCRIPTION:Galactic extinction in the north celestial cap
SUMMARY:Galactic extinction in the north celestial cap
END:VEVENT
END:VCALENDAR