BEGIN:VCALENDAR
VERSION:2.0
PRODID:-//hacksw/handcal//NONSGML v1.0//EN
CALSCALE:GREGORIAN
BEGIN:VEVENT
DTSTART:20130521T080000Z
DTEND:20130521T080000Z
UID:e13427
DTSTAMP:20260420T003405Z
LOCATION:Jacob Ziskind Building
DESCRIPTION:Matrices over local rings:  criteria for decomposability or being an extension
SUMMARY:Matrices over local rings:  criteria for decomposability or being an extension
END:VEVENT
END:VCALENDAR