BEGIN:VCALENDAR
VERSION:2.0
PRODID:-//hacksw/handcal//NONSGML v1.0//EN
CALSCALE:GREGORIAN
BEGIN:VEVENT
DTSTART:20130512T090000Z
DTEND:20130512T100000Z
UID:e13429
DTSTAMP:20260419T224753Z
LOCATION:Nella and Leon Benoziyo Physics Building
DESCRIPTION:Dark energy: a short overview
SUMMARY:Dark energy: a short overview
END:VEVENT
END:VCALENDAR