BEGIN:VCALENDAR
VERSION:2.0
PRODID:-//hacksw/handcal//NONSGML v1.0//EN
CALSCALE:GREGORIAN
BEGIN:VEVENT
DTSTART:20130521T070000Z
DTEND:20130521T070000Z
UID:e13437
DTSTAMP:20260420T194136Z
LOCATION:Helen and Milton A. Kimmelman Building
DESCRIPTION:"The Rational Design of Molecular Electronic Devices"
SUMMARY:"The Rational Design of Molecular Electronic Devices"
END:VEVENT
END:VCALENDAR