BEGIN:VCALENDAR
VERSION:2.0
PRODID:-//hacksw/handcal//NONSGML v1.0//EN
CALSCALE:GREGORIAN
BEGIN:VEVENT
DTSTART:20130521T093000Z
DTEND:20130521T093000Z
UID:e13445
DTSTAMP:20260420T085623Z
LOCATION:Gerhard M.J. Schmidt Lecture Hall
DESCRIPTION:The consolidation of episodic memory:How it starts\, does it ever end.
SUMMARY:The consolidation of episodic memory:How it starts\, does it ever end.
END:VEVENT
END:VCALENDAR