BEGIN:VCALENDAR
VERSION:2.0
PRODID:-//hacksw/handcal//NONSGML v1.0//EN
CALSCALE:GREGORIAN
BEGIN:VEVENT
DTSTART:20130521T080000Z
DTEND:20130521T090000Z
UID:e13447
DTSTAMP:20260420T194254Z
LOCATION:Nella and Leon Benoziyo Physics Building
DESCRIPTION:A TOUGH job: the host galaxies of long-duration gamma-ray bursts
SUMMARY:A TOUGH job: the host galaxies of long-duration gamma-ray bursts
END:VEVENT
END:VCALENDAR