BEGIN:VCALENDAR
VERSION:2.0
PRODID:-//hacksw/handcal//NONSGML v1.0//EN
CALSCALE:GREGORIAN
BEGIN:VEVENT
DTSTART:20130527T100000Z
DTEND:20130527T100000Z
UID:e13452
DTSTAMP:20260420T045938Z
LOCATION:Edna and K.B. Weissman Building of Physical Sciences
DESCRIPTION:Worm sleep: a universal behavior meets a simple model system
SUMMARY:Worm sleep: a universal behavior meets a simple model system
END:VEVENT
END:VCALENDAR