BEGIN:VCALENDAR
VERSION:2.0
PRODID:-//hacksw/handcal//NONSGML v1.0//EN
CALSCALE:GREGORIAN
BEGIN:VEVENT
DTSTART:20130604T093000Z
DTEND:20130604T093000Z
UID:e13453
DTSTAMP:20260420T091553Z
LOCATION:Arthur and Rochelle Belfer Building for Biomedical Research
DESCRIPTION:Development of the musculo-skeletal axis
SUMMARY:Development of the musculo-skeletal axis
END:VEVENT
END:VCALENDAR