BEGIN:VCALENDAR
VERSION:2.0
PRODID:-//hacksw/handcal//NONSGML v1.0//EN
CALSCALE:GREGORIAN
BEGIN:VEVENT
DTSTART:20131225T050000Z
DTEND:20131226T140000Z
UID:e13454
DTSTAMP:20260424T112639Z
LOCATION:The David Lopatie Conference Centre
DESCRIPTION:Challenges and Debates at the Frontiers of Brain&Cognition
SUMMARY:Challenges and Debates at the Frontiers of Brain&Cognition
END:VEVENT
END:VCALENDAR