BEGIN:VCALENDAR
VERSION:2.0
PRODID:-//hacksw/handcal//NONSGML v1.0//EN
CALSCALE:GREGORIAN
BEGIN:VEVENT
DTSTART:20130603T110000Z
DTEND:20130603T120000Z
UID:e13462
DTSTAMP:20260420T050219Z
LOCATION:Michael Sela Auditorium
DESCRIPTION:Taming the complexity of cellular biology with Virtual Cell
SUMMARY:Taming the complexity of cellular biology with Virtual Cell
END:VEVENT
END:VCALENDAR