BEGIN:VCALENDAR
VERSION:2.0
PRODID:-//hacksw/handcal//NONSGML v1.0//EN
CALSCALE:GREGORIAN
BEGIN:VEVENT
DTSTART:20130603T111500Z
DTEND:20130603T111500Z
UID:e13464
DTSTAMP:20260420T115959Z
LOCATION:Edna and K.B. Weissman Building of Physical Sciences
DESCRIPTION:Nonequilibrium Stationary States for some Model Systems
SUMMARY:Nonequilibrium Stationary States for some Model Systems
END:VEVENT
END:VCALENDAR