BEGIN:VCALENDAR
VERSION:2.0
PRODID:-//hacksw/handcal//NONSGML v1.0//EN
CALSCALE:GREGORIAN
BEGIN:VEVENT
DTSTART:20130605T063000Z
DTEND:20130605T123000Z
UID:e13465
DTSTAMP:20260420T045921Z
LOCATION:Edna and K.B. Weissman Building of Physical Sciences
DESCRIPTION:Statistical Mechanics Day VI
SUMMARY:Statistical Mechanics Day VI
END:VEVENT
END:VCALENDAR