BEGIN:VCALENDAR
VERSION:2.0
PRODID:-//hacksw/handcal//NONSGML v1.0//EN
CALSCALE:GREGORIAN
BEGIN:VEVENT
DTSTART:20130530T090000Z
DTEND:20130530T090000Z
UID:e13467
DTSTAMP:20260419T225956Z
LOCATION:Jacob Ziskind Building
DESCRIPTION:Efficient Preconditioning for Laplacian Matrices 
SUMMARY:Efficient Preconditioning for Laplacian Matrices 
END:VEVENT
END:VCALENDAR