BEGIN:VCALENDAR
VERSION:2.0
PRODID:-//hacksw/handcal//NONSGML v1.0//EN
CALSCALE:GREGORIAN
BEGIN:VEVENT
DTSTART:20130522T080000Z
DTEND:20130522T080000Z
UID:e13469
DTSTAMP:20260420T085604Z
LOCATION:Jacob Ziskind Building
DESCRIPTION:Toeplitz matrices and determinants under the impetus of the Ising Model I
SUMMARY:Toeplitz matrices and determinants under the impetus of the Ising Model I
END:VEVENT
END:VCALENDAR