BEGIN:VCALENDAR
VERSION:2.0
PRODID:-//hacksw/handcal//NONSGML v1.0//EN
CALSCALE:GREGORIAN
BEGIN:VEVENT
DTSTART:20130603T113000Z
DTEND:20130603T113000Z
UID:e13470
DTSTAMP:20260420T050136Z
LOCATION:Jacob Ziskind Building
DESCRIPTION:Contagious sets in expanders 
SUMMARY:Contagious sets in expanders 
END:VEVENT
END:VCALENDAR