BEGIN:VCALENDAR
VERSION:2.0
PRODID:-//hacksw/handcal//NONSGML v1.0//EN
CALSCALE:GREGORIAN
BEGIN:VEVENT
DTSTART:20130604T080000Z
DTEND:20130604T080000Z
UID:e13474
DTSTAMP:20260420T003403Z
LOCATION:Helen and Milton A. Kimmelman Building
DESCRIPTION:Selective Catalysis for Biomass Conversion
SUMMARY:Selective Catalysis for Biomass Conversion
END:VEVENT
END:VCALENDAR