BEGIN:VCALENDAR
VERSION:2.0
PRODID:-//hacksw/handcal//NONSGML v1.0//EN
CALSCALE:GREGORIAN
BEGIN:VEVENT
DTSTART:20130530T081500Z
DTEND:20130530T081500Z
UID:e13475
DTSTAMP:20260420T194149Z
LOCATION:Ullmann Building of Life Sciences
DESCRIPTION:"Ethics of energy research\, production and use"
SUMMARY:"Ethics of energy research\, production and use"
END:VEVENT
END:VCALENDAR