BEGIN:VCALENDAR
VERSION:2.0
PRODID:-//hacksw/handcal//NONSGML v1.0//EN
CALSCALE:GREGORIAN
BEGIN:VEVENT
DTSTART:20130528T093000Z
DTEND:20130528T093000Z
UID:e13476
DTSTAMP:20260420T050217Z
LOCATION:Gerhard M.J. Schmidt Lecture Hall
DESCRIPTION:A Metric Approach to Olfactory Space
SUMMARY:A Metric Approach to Olfactory Space
END:VEVENT
END:VCALENDAR