BEGIN:VCALENDAR
VERSION:2.0
PRODID:-//hacksw/handcal//NONSGML v1.0//EN
CALSCALE:GREGORIAN
BEGIN:VEVENT
DTSTART:20130619T080000Z
DTEND:20130619T080000Z
UID:e13478
DTSTAMP:20260420T155055Z
LOCATION:Jacob Ziskind Building
DESCRIPTION:Quotient stacks and mod l equivariant etale cohomology algebras 
SUMMARY:Quotient stacks and mod l equivariant etale cohomology algebras 
END:VEVENT
END:VCALENDAR