BEGIN:VCALENDAR
VERSION:2.0
PRODID:-//hacksw/handcal//NONSGML v1.0//EN
CALSCALE:GREGORIAN
BEGIN:VEVENT
DTSTART:20130530T150000Z
DTEND:20130530T150000Z
UID:e13481
DTSTAMP:20260420T115912Z
LOCATION:Wolfson Building for Biological Research
DESCRIPTION:The Iranian-Israeli Nuclear Campaign: From Cultural Trauma to Reconciliation
SUMMARY:The Iranian-Israeli Nuclear Campaign: From Cultural Trauma to Reconciliation
END:VEVENT
END:VCALENDAR