BEGIN:VCALENDAR
VERSION:2.0
PRODID:-//hacksw/handcal//NONSGML v1.0//EN
CALSCALE:GREGORIAN
BEGIN:VEVENT
DTSTART:20130609T080000Z
DTEND:20130609T080000Z
UID:e13496
DTSTAMP:20260420T045922Z
LOCATION:Sussman Family Building for Environmental Sciences
DESCRIPTION:Water-rock interactions at the nano-scale 
SUMMARY:Water-rock interactions at the nano-scale 
END:VEVENT
END:VCALENDAR