BEGIN:VCALENDAR
VERSION:2.0
PRODID:-//hacksw/handcal//NONSGML v1.0//EN
CALSCALE:GREGORIAN
BEGIN:VEVENT
DTSTART:20130604T093000Z
DTEND:20130604T093000Z
UID:e13500
DTSTAMP:20260420T034111Z
LOCATION:Gerhard M.J. Schmidt Lecture Hall
DESCRIPTION:&#8220\;The Young and the Restless&#8221\; Adult Neurogenesis in the Mouse Olfactory Bulb
SUMMARY:&#8220\;The Young and the Restless&#8221\; Adult Neurogenesis in the Mouse Olfactory Bulb
END:VEVENT
END:VCALENDAR