BEGIN:VCALENDAR
VERSION:2.0
PRODID:-//hacksw/handcal//NONSGML v1.0//EN
CALSCALE:GREGORIAN
BEGIN:VEVENT
DTSTART:20130604T081500Z
DTEND:20130604T081500Z
UID:e13503
DTSTAMP:20260420T155027Z
LOCATION:Ullmann Building of Life Sciences
DESCRIPTION:"Using population-level transcriptome data to characterize host range evolution in a non-model insect-plant system" 
SUMMARY:"Using population-level transcriptome data to characterize host range evolution in a non-model insect-plant system" 
END:VEVENT
END:VCALENDAR