BEGIN:VCALENDAR
VERSION:2.0
PRODID:-//hacksw/handcal//NONSGML v1.0//EN
CALSCALE:GREGORIAN
BEGIN:VEVENT
DTSTART:20140107T050000Z
DTEND:20140107T143000Z
UID:e13505
DTSTAMP:20260424T225359Z
LOCATION:The David Lopatie Conference Centre
DESCRIPTION:The 2nd International Meeting on Video Resources for Mathematics Teacher Development
SUMMARY:The 2nd International Meeting on Video Resources for Mathematics Teacher Development
END:VEVENT
END:VCALENDAR