BEGIN:VCALENDAR
VERSION:2.0
PRODID:-//hacksw/handcal//NONSGML v1.0//EN
CALSCALE:GREGORIAN
BEGIN:VEVENT
DTSTART:20130609T060000Z
DTEND:20130609T140000Z
UID:e13506
DTSTAMP:20260420T194243Z
LOCATION:Nella and Leon Benoziyo Physics Building
DESCRIPTION:Roger Chevalier Fest
SUMMARY:Roger Chevalier Fest
END:VEVENT
END:VCALENDAR