BEGIN:VCALENDAR
VERSION:2.0
PRODID:-//hacksw/handcal//NONSGML v1.0//EN
CALSCALE:GREGORIAN
BEGIN:VEVENT
DTSTART:20130604T110000Z
DTEND:20130604T120000Z
UID:e13507
DTSTAMP:20260420T045904Z
LOCATION:Helen and Milton A. Kimmelman Building
DESCRIPTION:'CAGI -  a community experiment to assess methods for genome interpretation'
SUMMARY:'CAGI -  a community experiment to assess methods for genome interpretation'
END:VEVENT
END:VCALENDAR