BEGIN:VCALENDAR
VERSION:2.0
PRODID:-//hacksw/handcal//NONSGML v1.0//EN
CALSCALE:GREGORIAN
BEGIN:VEVENT
DTSTART:20131211T090000Z
DTEND:20131211T103000Z
UID:e13510
DTSTAMP:20260423T155357Z
LOCATION:Dolfi and Lola Ebner Auditorium
DESCRIPTION:POPULAR LECTURES - IN HEBREW 
SUMMARY:POPULAR LECTURES - IN HEBREW 
END:VEVENT
END:VCALENDAR