BEGIN:VCALENDAR
VERSION:2.0
PRODID:-//hacksw/handcal//NONSGML v1.0//EN
CALSCALE:GREGORIAN
BEGIN:VEVENT
DTSTART:20140402T090000Z
DTEND:20140402T103000Z
UID:e13514
DTSTAMP:20260423T183825Z
LOCATION:Dolfi and Lola Ebner Auditorium
DESCRIPTION:POPULAR LECTURES - IN HEBREW 
SUMMARY:POPULAR LECTURES - IN HEBREW 
END:VEVENT
END:VCALENDAR