BEGIN:VCALENDAR
VERSION:2.0
PRODID:-//hacksw/handcal//NONSGML v1.0//EN
CALSCALE:GREGORIAN
BEGIN:VEVENT
DTSTART:20130610T081500Z
DTEND:20130610T081500Z
UID:e13526
DTSTAMP:20260420T050215Z
LOCATION:Ullmann Building of Life Sciences
DESCRIPTION:"Molecular basis of plant-pathogen interactions: from basic research to crop improvement"
SUMMARY:"Molecular basis of plant-pathogen interactions: from basic research to crop improvement"
END:VEVENT
END:VCALENDAR