BEGIN:VCALENDAR
VERSION:2.0
PRODID:-//hacksw/handcal//NONSGML v1.0//EN
CALSCALE:GREGORIAN
BEGIN:VEVENT
DTSTART:20130611T081500Z
DTEND:20130611T081500Z
UID:e13527
DTSTAMP:20260420T034112Z
LOCATION:Ullmann Building of Life Sciences
DESCRIPTION:"Utilizing photosynthetic complexes for solar energy conversion - Building a Bio-generator"
SUMMARY:"Utilizing photosynthetic complexes for solar energy conversion - Building a Bio-generator"
END:VEVENT
END:VCALENDAR