BEGIN:VCALENDAR
VERSION:2.0
PRODID:-//hacksw/handcal//NONSGML v1.0//EN
CALSCALE:GREGORIAN
BEGIN:VEVENT
DTSTART:20130620T090000Z
DTEND:20130620T090000Z
UID:e13534
DTSTAMP:20260421T085233Z
LOCATION:Jacob Ziskind Building
DESCRIPTION:A Multilevel Algorithm for $L_1$ Minimization with Application to Sparse Representation of Signals
SUMMARY:A Multilevel Algorithm for $L_1$ Minimization with Application to Sparse Representation of Signals
END:VEVENT
END:VCALENDAR