BEGIN:VCALENDAR
VERSION:2.0
PRODID:-//hacksw/handcal//NONSGML v1.0//EN
CALSCALE:GREGORIAN
BEGIN:VEVENT
DTSTART:20130624T113000Z
DTEND:20130624T113000Z
UID:e13535
DTSTAMP:20260421T180748Z
LOCATION:Jacob Ziskind Building
DESCRIPTION:Adaptive Metric Dimensionality Reduction 
SUMMARY:Adaptive Metric Dimensionality Reduction 
END:VEVENT
END:VCALENDAR