BEGIN:VCALENDAR
VERSION:2.0
PRODID:-//hacksw/handcal//NONSGML v1.0//EN
CALSCALE:GREGORIAN
BEGIN:VEVENT
DTSTART:20130627T090000Z
DTEND:20130627T090000Z
UID:e13538
DTSTAMP:20260421T102838Z
LOCATION:Jacob Ziskind Building
DESCRIPTION:Learning to See:  Developing visual concepts from unlabeled video streams
SUMMARY:Learning to See:  Developing visual concepts from unlabeled video streams
END:VEVENT
END:VCALENDAR