BEGIN:VCALENDAR
VERSION:2.0
PRODID:-//hacksw/handcal//NONSGML v1.0//EN
CALSCALE:GREGORIAN
BEGIN:VEVENT
DTSTART:20130618T080000Z
DTEND:20130618T080000Z
UID:e13539
DTSTAMP:20260421T223131Z
LOCATION:Helen and Milton A. Kimmelman Building
DESCRIPTION:"Catalysis at the Mesoscale: Going beyond the metallic site".
SUMMARY:"Catalysis at the Mesoscale: Going beyond the metallic site".
END:VEVENT
END:VCALENDAR