BEGIN:VCALENDAR
VERSION:2.0
PRODID:-//hacksw/handcal//NONSGML v1.0//EN
CALSCALE:GREGORIAN
BEGIN:VEVENT
DTSTART:20130618T081500Z
DTEND:20130618T081500Z
UID:e13546
DTSTAMP:20260421T085243Z
LOCATION:Ullmann Building of Life Sciences
DESCRIPTION:"Venture Accelerator - Turning Innovations Like Yours Into Startups"
SUMMARY:"Venture Accelerator - Turning Innovations Like Yours Into Startups"
END:VEVENT
END:VCALENDAR