BEGIN:VCALENDAR
VERSION:2.0
PRODID:-//hacksw/handcal//NONSGML v1.0//EN
CALSCALE:GREGORIAN
BEGIN:VEVENT
DTSTART:20130623T080000Z
DTEND:20130623T080000Z
UID:e13552
DTSTAMP:20260421T085319Z
LOCATION:Jacob Ziskind Building
DESCRIPTION:Pseudorandomness from Shrinkage 
SUMMARY:Pseudorandomness from Shrinkage 
END:VEVENT
END:VCALENDAR