BEGIN:VCALENDAR
VERSION:2.0
PRODID:-//hacksw/handcal//NONSGML v1.0//EN
CALSCALE:GREGORIAN
BEGIN:VEVENT
DTSTART:20130620T110000Z
DTEND:20130620T120000Z
UID:e13555
DTSTAMP:20260420T155006Z
LOCATION:Perlman Chemical Sciences Building
DESCRIPTION:Chemical Physics Seminar - Dr. David W. Chandler
SUMMARY:Chemical Physics Seminar - Dr. David W. Chandler
END:VEVENT
END:VCALENDAR